BEGIN:VCALENDAR
VERSION:2.0
PRODID:-//https://www.potigny.fr///NONSGML kigkonsult.se iCalcreator 2.10.15//
METHOD:PUBLISH
BEGIN:VEVENT
UID:20260423T034032UTC-7925MulG7P@https://www.potigny.fr/
DTSTAMP:20260423T034032Z
DESCRIPTION:Football\n&nbsp\;\nDimanche 26 Octobre 2025 à 15h00 au Stade de
 s Gueules Rouges.\nPOTIGNY /&nbsp\;BOURGUEBUS\nVenez nombreux encourager n
 os joueurs !!!\n&nbsp\;\n https://www.potigny.fr/component/rseventspro/eve
 nement/9-football.html?Itemid=10
DTSTART:20251026T150000Z
DTEND:20251026T180000Z
LOCATION:Stade des Gueules Rouges  (Stades des Gueules Rouges)
SUMMARY:FOOTBALL 
URL:https://www.potigny.fr/component/rseventspro/evenement/9-football.html?
 Itemid=10
END:VEVENT
END:VCALENDAR
