BEGIN:VCALENDAR
VERSION:2.0
PRODID:-//https://www.potigny.fr///NONSGML kigkonsult.se iCalcreator 2.10.15//
METHOD:PUBLISH
BEGIN:VEVENT
UID:20260423T054000UTC-9789bnuRIj@https://www.potigny.fr/
DTSTAMP:20260423T054000Z
DESCRIPTION:L'Amicale des Anciens Combattants et la Commune de Potigny vous
  invitent à assister aux cérémonies des 27 avril et 8 mai 2025 organisées 
 à l'occasion de la Journée du Souvenir des Victimes de Héros de la déporta
 tion de la guerre 1939/1945 et du 80ème Anniversaire de la victoire 1945 q
 ui auront lieu à Potigny le :\nDimanche 27 Avril&nbsp\; et Jeudi 8 Mai 202
 5\n&nbsp\;\nDéroulé des Cérémonies\n11h15 : Place Nicolas Copernic - Momun
 ent aux Morts\nAux Drapeaux\nDépôt de gerbes\nMinute de silence\nSouvenir 
 aux Morts\nMessage de Mme la secrétaire d'état chargée des anciens combatt
 ants\nHymnes nationaux\nRemerciement aux porte-drapeaux\n&nbsp\;\n11h30 : 
 Un vin d'honneur sera offert à l'issue de la cérémonie par la Mairie de Po
 tigny. https://www.potigny.fr/component/rseventspro/evenement/81-ceremonie
 s-du-27-avril-et-8-mai-2025.html?Itemid=10
DTSTART:20250427T111500Z
DTEND:20250508T130000Z
LOCATION:Place Nicolas Copernic - Monument aux Morts ()
SUMMARY:Cérémonies du 27 Avril et 8 Mai 2025
URL:https://www.potigny.fr/component/rseventspro/evenement/81-ceremonies-du
 -27-avril-et-8-mai-2025.html?Itemid=10
END:VEVENT
END:VCALENDAR
