BEGIN:VCALENDAR
VERSION:2.0
PRODID:-//https://www.potigny.fr///NONSGML kigkonsult.se iCalcreator 2.10.15//
METHOD:PUBLISH
BEGIN:VEVENT
UID:20260423T034539UTC-6643CGvSbX@https://www.potigny.fr/
DTSTAMP:20260423T034539Z
DESCRIPTION:L'Association Naionale du Souvenir de la 1ère Division Blindée 
 Polonaise et la Commune de Potigny vous invitent à assister à la cérémonie
  organisée à la mémoire des valeureux combattants de la 1ère DB Polonaise 
 qui aura lieu à Potigny le :\nDimanche 24 Août 2025\n11h30 : Place de la 1
 ère D.B. Polonaise\nDépôt de gerbes.\nHymnes nationaux\n&nbsp\;\nUn vin d'
 honneur sera offert à l'issue de la cérémonie par la Mairie de Potigny. ht
 tps://www.potigny.fr/component/rseventspro/evenement/76-ceremonie-a-la-mem
 oire-des-valeureux-combattants-de-la-1ere-d-b-polonaise.html?Itemid=10
DTSTART:20250824T113000Z
DTEND:20250824T130000Z
LOCATION:Place de la 1ère D.B. Polonaise (Place de la 1ère D.B. Polonaise)
SUMMARY:Cérémonie à la mémoire des valeureux combattants de la 1ère D.B. Po
 lonaise
URL:https://www.potigny.fr/component/rseventspro/evenement/76-ceremonie-a-l
 a-memoire-des-valeureux-combattants-de-la-1ere-d-b-polonaise.html?Itemid=1
END:VEVENT
END:VCALENDAR
