BEGIN:VCALENDAR
VERSION:2.0
PRODID:-//https://www.potigny.fr///NONSGML kigkonsult.se iCalcreator 2.10.15//
METHOD:PUBLISH
BEGIN:VEVENT
UID:20260423T051404UTC-9669Pz7FAZ@https://www.potigny.fr/
DTSTAMP:20260423T051404Z
DESCRIPTION:L'Amicale du Personnel Communal de Potigny vous propose une soi
 rée 'Couscous' le samedi 4 octobre 2025 à partir de 19h30 à la Salle du Su
 vez de Potigny.\n&nbsp\;\nLe prix du repas est de 23 € - réservations obli
 gatoires et règlement à la réservation auprès de la Mairie de Potigny au p
 lus tard le vendredi 26 Septembre 2025\n(Tél : 02.31.90.84.67)\n&nbsp\;\nT
 ous les membres de l'Amicale seront heureux de vous servir !!!\n&nbsp\;\n 
 https://www.potigny.fr/component/rseventspro/evenement/58-soiree-couscous.
 html?Itemid=10
DTSTART:20251004T193000Z
DTEND:20251005T030000Z
LOCATION:Salle du Suvez (Salle du Suvez)
SUMMARY:Soirée Couscous
URL:https://www.potigny.fr/component/rseventspro/evenement/58-soiree-cousco
 us.html?Itemid=10
END:VEVENT
END:VCALENDAR
