BEGIN:VCALENDAR
VERSION:2.0
PRODID:-//https://www.potigny.fr///NONSGML kigkonsult.se iCalcreator 2.10.15//
METHOD:PUBLISH
BEGIN:VEVENT
UID:20260423T052727UTC-2813oTuPkf@https://www.potigny.fr/
DTSTAMP:20260423T052727Z
DESCRIPTION:L'UCIA de Potigny organise un vide grenier le Dimanche 29 Juin 
 2025 de 8h à 18h\, Centre Bourg.\n3 € / ml\n3 ml = 4 ml\nInscriptions : Au
 x Bonne Saveurs - Potigny\n+ d'informations : 02.31.40.89.84\n https://www
 .potigny.fr/component/rseventspro/evenement/53-ucia-de-potigny-vide-grenie
 r.html?Itemid=10
DTSTART:20250629T080000Z
DTEND:20250629T180000Z
LOCATION:centre Bourg ()
SUMMARY:UCIA  de Potigny - VIDE GRENIER
URL:https://www.potigny.fr/component/rseventspro/evenement/53-ucia-de-potig
 ny-vide-grenier.html?Itemid=10
END:VEVENT
END:VCALENDAR
