BEGIN:VCALENDAR
VERSION:2.0
PRODID:-//https://www.potigny.fr///NONSGML kigkonsult.se iCalcreator 2.10.15//
METHOD:PUBLISH
BEGIN:VEVENT
UID:20260423T053940UTC-8850BsV8Xr@https://www.potigny.fr/
DTSTAMP:20260423T053940Z
DESCRIPTION:L'Harmonie l'Espérance vous propose son concert ' CHANT D'ELLES
  ' le Mercredi 25 Juin à 20h30 à la Salle du Suvez - chemin d'Aisy à POTIG
 NY.\nEntrée libre.\n&nbsp\;\n&nbsp\;\n&nbsp\;\n&nbsp\; https://www.potigny
 .fr/component/rseventspro/evenement/51-lharmonie-lesperance-concert-chants
 -delles.html?Itemid=10
DTSTART:20250625T203000Z
DTEND:20250625T223000Z
LOCATION:Salle du Suvez (Salle du Suvez)
SUMMARY:L'Harmonie l'Espérance - Concert CHANTS D'ELLES
URL:https://www.potigny.fr/component/rseventspro/evenement/51-lharmonie-les
 perance-concert-chants-delles.html?Itemid=10
END:VEVENT
END:VCALENDAR
