BEGIN:VCALENDAR
VERSION:2.0
PRODID:-//https://www.potigny.fr///NONSGML kigkonsult.se iCalcreator 2.10.15//
METHOD:PUBLISH
BEGIN:VEVENT
UID:20260423T052929UTC-9640ttxxmv@https://www.potigny.fr/
DTSTAMP:20260423T052929Z
DESCRIPTION:Une séance de découverte 'Pilates' est organisée le samedi 10 j
 uin de 11h à 12h à la Mjc de Potigny.\nRenseignements et inscriptions grat
 uites au 06.72.36.57.26\n https://www.potigny.fr/component/rseventspro/eve
 nement/50-decouverte-pilates.html?Itemid=10
DTSTART:20230610T110000Z
DTEND:20230610T120000Z
LOCATION:Maison des Loisirs - MJC ()
SUMMARY:Découverte Pilates
URL:https://www.potigny.fr/component/rseventspro/evenement/50-decouverte-pi
 lates.html?Itemid=10
END:VEVENT
END:VCALENDAR
