BEGIN:VCALENDAR
VERSION:2.0
PRODID:-//https://www.potigny.fr///NONSGML kigkonsult.se iCalcreator 2.10.15//
METHOD:PUBLISH
BEGIN:VEVENT
UID:20260423T070715UTC-7154n3BReV@https://www.potigny.fr/
DTSTAMP:20260423T070715Z
DESCRIPTION:Dimanche 8 octobre - Potigny s'associe une nouvelle fois à la '
 Faites du Vélo'\nRendez-vous à 9H45 Place Nicolas Copernic pour le départ 
 prévu vers 10H\nCette année\, le parcours de 12kms partira de Soumont et p
 assera par les communes de Villers-Canivet\, Soulangy\, St-Pierre-Canivet\
 , Aubigny. A notre arrivée à Falaise\, nous pourrons pique-niquer sur la p
 lace Guillaume Le Conquérant qui sera interdite à la circulation pour l'oc
 casion.\nLe casque est obligatoire.\nRéservation conseillée auprès de la m
 airie au 02.31.90.84.67 ou via ville-potigny@wanadoo.fr https://www.potign
 y.fr/component/rseventspro/evenement/36-9eme-edition-faites-du-velo-dimanc
 he-8-octobre-2022.html?Itemid=10
DTSTART:20231008T093000Z
DTEND:20231008T143000Z
LOCATION:Place Copernic Potigny ()
SUMMARY:9ème édition 'Faites du vélo' - DIMANCHE 8 octobre 2022
URL:https://www.potigny.fr/component/rseventspro/evenement/36-9eme-edition-
 faites-du-velo-dimanche-8-octobre-2022.html?Itemid=10
END:VEVENT
END:VCALENDAR
