BEGIN:VCALENDAR
VERSION:2.0
PRODID:-//https://www.potigny.fr///NONSGML kigkonsult.se iCalcreator 2.10.15//
METHOD:PUBLISH
BEGIN:VEVENT
UID:20260423T034430UTC-9693ShNLMv@https://www.potigny.fr/
DTSTAMP:20260423T034430Z
DESCRIPTION:11ème édition des Foulées de la Brèche au Diable.\nA la rentrée
 \, le dimanche 14 septembre 2025\, vous retrouverez pour la 11ème édition\
 , la traditionnelle course des foulées organisée par l'Association Potigna
 ise de Course Hors Stade (APCHS).\nInscrivez-vous dès maintenant via le fo
 rmulaire ci-dessous:\nLes Foulées de la brèche au diable 14 SEPTEMBRE 2025
  - 11ème édition\n&nbsp\; https://www.potigny.fr/component/rseventspro/eve
 nement/32-les-foulees-de-la-breche-au-diable-11eme-edition.html?Itemid=10
DTSTART:20250914T070000Z
DTEND:20250914T120000Z
LOCATION:POTIGNY ()
SUMMARY:Les Foulées de la brèche au Diable - 11ème édition
URL:https://www.potigny.fr/component/rseventspro/evenement/32-les-foulees-d
 e-la-breche-au-diable-11eme-edition.html?Itemid=10
END:VEVENT
END:VCALENDAR
