BEGIN:VCALENDAR
VERSION:2.0
PRODID:-//https://www.potigny.fr///NONSGML kigkonsult.se iCalcreator 2.10.15//
METHOD:PUBLISH
BEGIN:VEVENT
UID:20260423T051408UTC-8398ub59KK@https://www.potigny.fr/
DTSTAMP:20260423T051408Z
DESCRIPTION:La MJC de Potigny vous propose de venir découvrir l'Atelier SCR
 APBOOKING 'Parents/Enfants' avec Laetitia GALLIER le samedi 25 janvier 202
 5 de 10h à 12h.\nA partir de 6 ans.\nInscription (gratuite) obligatoire au
 près de la MJC au 06.72.36.57.26 ou par mail mjc.potigny@orange.fr https:/
 /www.potigny.fr/component/rseventspro/evenement/29-mjc-atelier-scrapbookin
 g-parents-enfants.html?Itemid=10
DTSTART:20250125T100000Z
DTEND:20250125T120000Z
LOCATION:Maison des Loisirs - MJC ()
SUMMARY:MJC - Atelier SCRAPBOOKING 'Parents/Enfants'
URL:https://www.potigny.fr/component/rseventspro/evenement/29-mjc-atelier-s
 crapbooking-parents-enfants.html?Itemid=10
END:VEVENT
END:VCALENDAR
