BEGIN:VCALENDAR
VERSION:2.0
PRODID:-//https://www.potigny.fr///NONSGML kigkonsult.se iCalcreator 2.10.15//
METHOD:PUBLISH
BEGIN:VEVENT
UID:20260423T152712UTC-2037pvAxiV@https://www.potigny.fr/
DTSTAMP:20260423T152712Z
DESCRIPTION: https://www.potigny.fr/component/rseventspro/evenement/101-1er
 -mai-saint-germain-le-vasson-journee-decouverte-musee-de-la-mine.html?Item
 id=101
DTSTART:20260501T093000Z
DTEND:20260501T180000Z
LOCATION:Saint Germain Le Vasson ()
SUMMARY:1er MAI - SAINT GERMAIN LE VASSON - Journée Découverte Musée de la 
 MIne
URL:https://www.potigny.fr/component/rseventspro/evenement/101-1er-mai-sain
 t-germain-le-vasson-journee-decouverte-musee-de-la-mine.html?Itemid=101
END:VEVENT
END:VCALENDAR
