BEGIN:VCALENDAR
VERSION:2.0
PRODID:-//https://www.potigny.fr///NONSGML kigkonsult.se iCalcreator 2.10.15//
METHOD:PUBLISH
BEGIN:VEVENT
UID:20260423T071454UTC-3653f2THdw@https://www.potigny.fr/
DTSTAMP:20260423T071454Z
DESCRIPTION:TELETHON à Potigny - Edition 2022\nSamedi 3 décembre :\n- Caser
 ne ouverte et lavage de voitures - formation aux gestes qui sauvent - vent
 e de gâteaux de 9h30 à 17h au centre de secours par l'Amicale des Sapeurs-
 pompiers de Potigny.\nMercredis 30 novembre et 7 décembre :\n\nVente de gâ
 teaux confectionnés par les enfants du centre aéré de la MJC\n\nTout le mo
 is de novembre :\n\nVente de porte-clés\, carnets par les élèves du Collèg
 e de Potigny \; renseignements auprès de Mme SALLE\, CP\, au 02 31 90 60 5
 5\n\nSamedi 3 décembre :\n\nRandonnée pédestre 2 circuits : facile de 7 km
 s ou confirmé de 11kms. Départ à 9h30 devant l'église (inscriptions sur pl
 ace dès 9h\, café offert par l'Aumônerie). Dons libres.\nRepas TARTIFLETTE
  à 12h00 à la cantine de l'école Paul Langevin : kir\, tartiflette (ou ass
 iette de charcuterie)\, salade\, tarte\, café : 13 € - Réservation obligat
 oire avant le 30 novembre au 02 31 90 84 67 ou à la Mairie\nAnimation JUDO
  à partir de 14h\, 'Parents au tapis' au Dojo. Urne sur place. Dons libres
 .\nBraderie JUDO de 10h à 12h et 14h à 17h\, Gymnase Zenon Ruda\, 1euros r
 eversé au Téléthon par article vendu.\nDéfis sportifs Parents-Enfants\, pl
 ateau d'évolution\, 14h à 16h30\, sous réserve d'une météo clémente.\n htt
 ps://www.potigny.fr/component/rseventspro/evenement/10-telethon-a-potigny-
 edition-2022.html?Itemid=10
DTSTART:20221122T141837Z
DTEND:20221204T161837Z
LOCATION:POTIGNY ()
SUMMARY:Téléthon à Potigny - Edition 2022
URL:https://www.potigny.fr/component/rseventspro/evenement/10-telethon-a-po
 tigny-edition-2022.html?Itemid=10
END:VEVENT
END:VCALENDAR
