BEGIN:VCALENDAR
VERSION:2.0
PRODID:-//https://www.potigny.fr///NONSGML kigkonsult.se iCalcreator 2.10.15//
METHOD:PUBLISH
BEGIN:VEVENT
UID:20260423T020407UTC-5093RUZgPk@https://www.potigny.fr/
DTSTAMP:20260423T020407Z
DESCRIPTION:Le prochain Conseil Municipal se tiendra le mardi 7 avril 2026 
 à 19h00 à la Mairie de Potigny.L'ordre du jour est le suivant :\n\nDélégat
 ions du Conseil Municipal au Maire\nIndemnités de fonction des Adjoints\nD
 ésignation des Délégués dans les organismes extérieurs\nConstitution des C
 ommissions municipales\nQuestions diverses.\n https://www.potigny.fr/compo
 nent/rseventspro/evenement/2-prochain-conseil-municipal.html?Itemid=10
DTSTART:20260407T190000Z
DTEND:20260407T210000Z
LOCATION:Mairie de Potigny (Mairie de Potigny)
SUMMARY:Prochain Conseil Municipal
URL:https://www.potigny.fr/component/rseventspro/evenement/2-prochain-conse
 il-municipal.html?Itemid=10
END:VEVENT
BEGIN:VEVENT
UID:20260423T020407UTC-5095DvWBdh@https://www.potigny.fr/
DTSTAMP:20260423T020407Z
DESCRIPTION:La prochaine collecte de sang se tiendra le Mardi 24 Mars 2026\
 , de 15h30 à 19h00&nbsp\;à la Salle du Suvez.\nPensez à vous munir d'une p
 ièce d'identité.\nAfin de respecter les gestes barrières\, les dons se fon
 t sur rendez-vous soit par téléphone au 0800 109 900 ou par inscription en
  ligne.\nconsulter le site en ligne\n https://www.potigny.fr/component/rse
 ventspro/evenement/3-don-du-sang.html?Itemid=10
DTSTART:20260324T153000Z
DTEND:20260324T190000Z
LOCATION:Salle du Suvez (Salle du Suvez)
SUMMARY:Don du Sang 
URL:https://www.potigny.fr/component/rseventspro/evenement/3-don-du-sang.ht
 ml?Itemid=10
END:VEVENT
BEGIN:VEVENT
UID:20260423T020407UTC-5096tDann2@https://www.potigny.fr/
DTSTAMP:20260423T020407Z
DESCRIPTION: https://www.potigny.fr/component/rseventspro/evenement/5-fleur
 ir-potigny-banquet-du-printemps.html?Itemid=10
DTSTART:20260425T193000Z
DTEND:20260426T033000Z
LOCATION:Salle de Suvez (Salle de Suvez)
SUMMARY:Fleurir Potigny - Banquet du printemps
URL:https://www.potigny.fr/component/rseventspro/evenement/5-fleurir-potign
 y-banquet-du-printemps.html?Itemid=10
END:VEVENT
BEGIN:VEVENT
UID:20260423T020407UTC-509794rV5w@https://www.potigny.fr/
DTSTAMP:20260423T020407Z
DESCRIPTION:Veuillez trouver en cliquant sur ce lien&nbsp\;https://www.medi
 atheque-cdcfalaise.fr/evenements-animations\,&nbsp\;&nbsp\;les animations 
 de la Médiathèque de Potigny.\n&nbsp\; https://www.potigny.fr/component/rs
 eventspro/evenement/17-mediatheque-de-potigny-evenements-de-lannee.html?It
 emid=10
DTSTART:20260101T120000Z
DTEND:20261231T230000Z
LOCATION:Médiathèque de Potigny (Médiathèque de Potigny)
SUMMARY:MEDIATHEQUE de POTIGNY - événements de l'année
URL:https://www.potigny.fr/component/rseventspro/evenement/17-mediatheque-d
 e-potigny-evenements-de-lannee.html?Itemid=10
END:VEVENT
BEGIN:VEVENT
UID:20260423T020407UTC-5098062ugW@https://www.potigny.fr/
DTSTAMP:20260423T020407Z
DESCRIPTION:L'Amicale du Personnel Communal de Potigny vous invite à son tr
 aditionnel 'Déjeuner aux Tripes' le Dimanche 1er Mars 2026 à la salle du S
 uvez entre 8h30 et 13h00.&nbsp\;\nLe prix du repas est de 17 euros.\nTous 
 les membres de l'Amicale seront heureux de vous accueillir !!!\n https://w
 ww.potigny.fr/component/rseventspro/evenement/20-dejeuner-aux-tripes.html?
 Itemid=10
DTSTART:20260301T083000Z
DTEND:20260301T130000Z
LOCATION:Salle du Suvez (Salle du Suvez)
SUMMARY:Déjeuner aux Tripes
URL:https://www.potigny.fr/component/rseventspro/evenement/20-dejeuner-aux-
 tripes.html?Itemid=10
END:VEVENT
BEGIN:VEVENT
UID:20260423T020407UTC-50995oVTuL@https://www.potigny.fr/
DTSTAMP:20260423T020407Z
DESCRIPTION:La MJC de Potigny organise 2 supers lotos le samedi 18 avril à 
 20h et le dimanche 19 avril à 14h au Gymnase de Potigny.\nLes réservations
  sont fortement conseillées :\npar tél : 06.72.36.57.26\npar mail : mjc.po
 tigny@orange.fr\nPlus d'informations en cliquant sur ce lien.\n\n&nbsp\;\n
 &nbsp\; https://www.potigny.fr/component/rseventspro/evenement/23-mjc-2-su
 pers-lotos.html?Itemid=10
DTSTART:20260418T180000Z
DTEND:20260419T180000Z
LOCATION:Gymnase de Potigny (PLACE DE LA  1ERE DB POLONAISE)
SUMMARY:MJC - 2 SUPERS LOTOS
URL:https://www.potigny.fr/component/rseventspro/evenement/23-mjc-2-supers-
 lotos.html?Itemid=10
END:VEVENT
BEGIN:VEVENT
UID:20260423T020407UTC-5101cWcXjB@https://www.potigny.fr/
DTSTAMP:20260423T020407Z
DESCRIPTION:La commune de Potigny\, La MJC et l'APE de Potigny vous inviten
 t au CARNAVAL !!!!\nSamedi 28 Mars 2026 dès 15h00 rue Jean Moulin.\nCet év
 ènement\, ouvert à tous\, déambulera en musique dans les rues de Potigny. 
 Petits et grands sont invités à se déguiser et à rejoindre le cortège.\nVe
 nte de confettis avant le défilé et goûter à l'issue du carnaval.\nLa fanf
 are Dragonne nous accompagnera cette année.\nNous vous attendons nombreux.
 .. https://www.potigny.fr/component/rseventspro/evenement/49-carnaval-de-p
 otigny.html?Itemid=10
DTSTART:20260328T150000Z
DTEND:20260328T180000Z
LOCATION:Rue Jean Moulin - Potigny ()
SUMMARY:Carnaval de Potigny
URL:https://www.potigny.fr/component/rseventspro/evenement/49-carnaval-de-p
 otigny.html?Itemid=10
END:VEVENT
BEGIN:VEVENT
UID:20260423T020407UTC-51028BMvZ4@https://www.potigny.fr/
DTSTAMP:20260423T020407Z
DESCRIPTION:CHANTS DE NOEL POLONAIS avec le groupe 'DUSZA POLSKA'\n&nbsp\;
 \nDimanche 4 janvier 2026 \nau cours de la messe de 9h30 à la Chapelle Pol
 onaise.\n https://www.potigny.fr/component/rseventspro/evenement/70-chants
 -de-noel-polonais.html?Itemid=10
DTSTART:20260104T093000Z
DTEND:20260104T110000Z
LOCATION:Chapelle Polonaise  (rue des Capucines - 14420 POTIGNY)
SUMMARY:Chants de Noël polonais
URL:https://www.potigny.fr/component/rseventspro/evenement/70-chants-de-noe
 l-polonais.html?Itemid=10
END:VEVENT
BEGIN:VEVENT
UID:20260423T020407UTC-5103cVSTVU@https://www.potigny.fr/
DTSTAMP:20260423T020407Z
DESCRIPTION:L'association des parents d'élèves de l'école de Potigny organi
 se 2 lotos.\nSAMEDI&nbsp\; 14 FEVRIER à partir de 20h et DIMANCHE 15 FEVRI
 ER à partir de 14h. (portes ouvertes 1h30 avant).\nRéservations au&nbsp\; 
 06.63.60.29.68\nBuvette et restauration sur place.\n3 500 € en bons d'acha
 t E.LECLERC sur le week-end et de nombreux lots à gagner\nVenez nombreux !
 !! https://www.potigny.fr/component/rseventspro/evenement/73-ape-de-potign
 y-loto.html?Itemid=10
DTSTART:20260214T200000Z
DTEND:20260215T140000Z
LOCATION:Gymnase de Potigny (PLACE DE LA  1ERE DB POLONAISE)
SUMMARY:APE DE POTIGNY -LOTO
URL:https://www.potigny.fr/component/rseventspro/evenement/73-ape-de-potign
 y-loto.html?Itemid=10
END:VEVENT
BEGIN:VEVENT
UID:20260423T020407UTC-51045brUBT@https://www.potigny.fr/
DTSTAMP:20260423T020407Z
DESCRIPTION:Le Secours Catholique organise un repas le Samedi 7 Mars 2026 d
 e 12h à 17h\, chemin d'Aisy à Potigny.\n&nbsp\;\n https://www.potigny.fr/c
 omponent/rseventspro/evenement/83-secours-catholique-repas.html?Itemid=10
DTSTART:20260307T120000Z
DTEND:20260307T180000Z
LOCATION:Chemin d'Aisy ()
SUMMARY:SECOURS CATHOLIQUE - REPAS
URL:https://www.potigny.fr/component/rseventspro/evenement/83-secours-catho
 lique-repas.html?Itemid=10
END:VEVENT
END:VCALENDAR
